Package: DropletUtils Version: 1.20.0 Command: /Library/Frameworks/R.framework/Resources/bin/R CMD build --keep-empty-dirs --no-resave-data DropletUtils StartedAt: 2023-10-15 18:04:50 -0400 (Sun, 15 Oct 2023) EndedAt: 2023-10-15 18:08:46 -0400 (Sun, 15 Oct 2023) EllapsedTime: 236.3 seconds RetCode: 0 Status: OK PackageFile: DropletUtils_1.20.0.tar.gz PackageFileSize: 564.1 KiB