Package: DifferentialRegulation Version: 1.4.2 Command: /home/biocbuild/bbs-3.17-bioc/R/bin/R CMD INSTALL DifferentialRegulation StartedAt: 2023-10-15 15:18:09 -0400 (Sun, 15 Oct 2023) EndedAt: 2023-10-15 15:19:01 -0400 (Sun, 15 Oct 2023) EllapsedTime: 51.8 seconds RetCode: 0 Status: OK