Package: DifferentialRegulation Version: 1.4.2 Command: /home/biocbuild/bbs-3.17-bioc/R/bin/R CMD build --keep-empty-dirs --no-resave-data DifferentialRegulation StartedAt: 2023-10-15 16:36:17 -0400 (Sun, 15 Oct 2023) EndedAt: 2023-10-15 16:39:07 -0400 (Sun, 15 Oct 2023) EllapsedTime: 169.6 seconds RetCode: 0 Status: OK PackageFile: DifferentialRegulation_1.4.2.tar.gz PackageFileSize: 2.337 MiB