Package: DiffLogo Version: 2.24.0 Command: rm -rf DiffLogo.buildbin-libdir && mkdir DiffLogo.buildbin-libdir && /Users/biocbuild/BBS/utils/build-universal.sh DiffLogo_2.24.0.tar.gz /Library/Frameworks/R.framework/Resources/bin/R DiffLogo.buildbin-libdir StartedAt: 2023-10-16 09:17:48 -0400 (Mon, 16 Oct 2023) EndedAt: 2023-10-16 09:18:04 -0400 (Mon, 16 Oct 2023) EllapsedTime: 16.9 seconds RetCode: 0 Status: OK PackageFile: DiffLogo_2.24.0.tgz PackageFileSize: 1.054 MiB