Package: DepInfeR Version: 1.4.0 Command: /home/biocbuild/bbs-3.17-bioc/R/bin/R CMD build --keep-empty-dirs --no-resave-data DepInfeR StartedAt: 2023-10-15 16:34:19 -0400 (Sun, 15 Oct 2023) EndedAt: 2023-10-15 16:35:16 -0400 (Sun, 15 Oct 2023) EllapsedTime: 56.2 seconds RetCode: 0 Status: OK PackageFile: DepInfeR_1.4.0.tar.gz PackageFileSize: 2.215 MiB