Package: DelayedTensor Version: 1.6.0 Command: rm -rf DelayedTensor.buildbin-libdir && mkdir DelayedTensor.buildbin-libdir && F:\biocbuild\bbs-3.17-bioc\R\bin\R.exe CMD INSTALL --build --library=DelayedTensor.buildbin-libdir DelayedTensor_1.6.0.tar.gz StartedAt: 2023-10-16 08:41:11 -0400 (Mon, 16 Oct 2023) EndedAt: 2023-10-16 08:41:56 -0400 (Mon, 16 Oct 2023) EllapsedTime: 45.2 seconds RetCode: 0 Status: OK PackageFile: DelayedTensor_1.6.0.zip PackageFileSize: 3.098 MiB