Package: DelayedTensor Version: 1.6.0 Command: /home/biocbuild/bbs-3.17-bioc/R/bin/R CMD check --install=check:DelayedTensor.install-out.txt --library=/home/biocbuild/bbs-3.17-bioc/R/site-library --timings DelayedTensor_1.6.0.tar.gz StartedAt: 2023-10-15 20:42:19 -0400 (Sun, 15 Oct 2023) EndedAt: 2023-10-15 20:49:26 -0400 (Sun, 15 Oct 2023) EllapsedTime: 426.4 seconds RetCode: 0 Status: WARNINGS CheckDir: DelayedTensor.Rcheck Warnings: 1