Package: DelayedTensor Version: 1.6.0 Command: /Library/Frameworks/R.framework/Resources/bin/R CMD INSTALL DelayedTensor StartedAt: 2023-10-15 16:17:04 -0400 (Sun, 15 Oct 2023) EndedAt: 2023-10-15 16:18:19 -0400 (Sun, 15 Oct 2023) EllapsedTime: 74.8 seconds RetCode: 0 Status: OK