Package: DelayedTensor Version: 1.6.0 Command: /Library/Frameworks/R.framework/Resources/bin/R CMD build --keep-empty-dirs --no-resave-data DelayedTensor StartedAt: 2023-10-15 17:52:08 -0400 (Sun, 15 Oct 2023) EndedAt: 2023-10-15 18:01:06 -0400 (Sun, 15 Oct 2023) EllapsedTime: 537.9 seconds RetCode: 0 Status: OK PackageFile: DelayedTensor_1.6.0.tar.gz PackageFileSize: 4.128 MiB