Package: DelayedRandomArray Version: 1.8.0 Command: rm -rf DelayedRandomArray.buildbin-libdir && mkdir DelayedRandomArray.buildbin-libdir && F:\biocbuild\bbs-3.17-bioc\R\bin\R.exe CMD INSTALL --build --library=DelayedRandomArray.buildbin-libdir DelayedRandomArray_1.8.0.tar.gz StartedAt: 2023-10-16 08:41:07 -0400 (Mon, 16 Oct 2023) EndedAt: 2023-10-16 08:42:08 -0400 (Mon, 16 Oct 2023) EllapsedTime: 60.6 seconds RetCode: 0 Status: OK PackageFile: DelayedRandomArray_1.8.0.zip PackageFileSize: 984.9 KiB