Package: DelayedMatrixStats Version: 1.22.6 Command: F:\biocbuild\bbs-3.17-bioc\R\bin\R.exe CMD INSTALL DelayedMatrixStats StartedAt: 2023-10-15 15:58:58 -0400 (Sun, 15 Oct 2023) EndedAt: 2023-10-15 15:59:32 -0400 (Sun, 15 Oct 2023) EllapsedTime: 33.6 seconds RetCode: 0 Status: OK