Package: DelayedDataFrame Version: 1.16.0 Command: /home/biocbuild/bbs-3.17-bioc/R/bin/R CMD build --keep-empty-dirs --no-resave-data DelayedDataFrame StartedAt: 2023-10-15 16:33:00 -0400 (Sun, 15 Oct 2023) EndedAt: 2023-10-15 16:33:28 -0400 (Sun, 15 Oct 2023) EllapsedTime: 27.6 seconds RetCode: 0 Status: OK PackageFile: DelayedDataFrame_1.16.0.tar.gz PackageFileSize: 486.5 KiB