Package: DeepPINCS Version: 1.8.3 Command: /Library/Frameworks/R.framework/Resources/bin/R CMD INSTALL DeepPINCS StartedAt: 2023-10-15 16:27:01 -0400 (Sun, 15 Oct 2023) EndedAt: 2023-10-15 16:27:52 -0400 (Sun, 15 Oct 2023) EllapsedTime: 50.4 seconds RetCode: 0 Status: OK