Package: DRIMSeq Version: 1.28.0 Command: chmod a+r DRIMSeq -R && F:\biocbuild\bbs-3.17-bioc\R\bin\R.exe CMD build --keep-empty-dirs --no-resave-data DRIMSeq StartedAt: 2023-10-15 18:50:27 -0400 (Sun, 15 Oct 2023) EndedAt: 2023-10-15 18:53:05 -0400 (Sun, 15 Oct 2023) EllapsedTime: 158.0 seconds RetCode: 0 Status: OK PackageFile: DRIMSeq_1.28.0.tar.gz PackageFileSize: 483.4 KiB