Package: DRIMSeq Version: 1.28.0 Command: rm -rf DRIMSeq.buildbin-libdir && mkdir DRIMSeq.buildbin-libdir && F:\biocbuild\bbs-3.17-bioc\R\bin\R.exe CMD INSTALL --build --library=DRIMSeq.buildbin-libdir DRIMSeq_1.28.0.tar.gz StartedAt: 2023-10-16 08:43:52 -0400 (Mon, 16 Oct 2023) EndedAt: 2023-10-16 08:44:17 -0400 (Mon, 16 Oct 2023) EllapsedTime: 25.4 seconds RetCode: 0 Status: OK PackageFile: DRIMSeq_1.28.0.zip PackageFileSize: 783.8 KiB