Package: DRIMSeq Version: 1.28.0 Command: /home/biocbuild/bbs-3.17-bioc/R/bin/R CMD check --install=check:DRIMSeq.install-out.txt --library=/home/biocbuild/bbs-3.17-bioc/R/site-library --timings DRIMSeq_1.28.0.tar.gz StartedAt: 2023-10-15 20:57:53 -0400 (Sun, 15 Oct 2023) EndedAt: 2023-10-15 21:03:15 -0400 (Sun, 15 Oct 2023) EllapsedTime: 322.1 seconds RetCode: 0 Status: WARNINGS CheckDir: DRIMSeq.Rcheck Warnings: 1