Package: DRIMSeq Version: 1.28.0 Command: rm -rf DRIMSeq.buildbin-libdir && mkdir DRIMSeq.buildbin-libdir && /Users/biocbuild/BBS/utils/build-universal.sh DRIMSeq_1.28.0.tar.gz /Library/Frameworks/R.framework/Resources/bin/R DRIMSeq.buildbin-libdir StartedAt: 2023-10-16 09:19:19 -0400 (Mon, 16 Oct 2023) EndedAt: 2023-10-16 09:20:09 -0400 (Mon, 16 Oct 2023) EllapsedTime: 49.8 seconds RetCode: 0 Status: OK PackageFile: DRIMSeq_1.28.0.tgz PackageFileSize: 783.9 KiB