Package: DNAshapeR Version: 1.28.0 Command: /home/biocbuild/bbs-3.17-bioc/R/bin/R CMD build --keep-empty-dirs --no-resave-data DNAshapeR StartedAt: 2023-10-15 16:39:05 -0400 (Sun, 15 Oct 2023) EndedAt: 2023-10-15 16:40:08 -0400 (Sun, 15 Oct 2023) EllapsedTime: 63.5 seconds RetCode: 0 Status: OK PackageFile: DNAshapeR_1.28.0.tar.gz PackageFileSize: 1.077 MiB