Package: DNABarcodes Version: 1.30.0 Command: /Library/Frameworks/R.framework/Resources/bin/R CMD INSTALL DNABarcodes StartedAt: 2023-10-15 15:58:22 -0400 (Sun, 15 Oct 2023) EndedAt: 2023-10-15 16:01:30 -0400 (Sun, 15 Oct 2023) EllapsedTime: 188.6 seconds RetCode: 1 Status: ERROR