Package: DNABarcodeCompatibility Version: 1.16.0 Command: /home/biocbuild/bbs-3.17-bioc/R/bin/R CMD build --keep-empty-dirs --no-resave-data DNABarcodeCompatibility StartedAt: 2023-10-15 16:38:21 -0400 (Sun, 15 Oct 2023) EndedAt: 2023-10-15 16:39:07 -0400 (Sun, 15 Oct 2023) EllapsedTime: 45.5 seconds RetCode: 0 Status: OK PackageFile: DNABarcodeCompatibility_1.16.0.tar.gz PackageFileSize: 249.2 KiB