Package: DNABarcodeCompatibility Version: 1.15.0 Command: rm -rf DNABarcodeCompatibility.buildbin-libdir && mkdir DNABarcodeCompatibility.buildbin-libdir && /Users/biocbuild/BBS/utils/build-universal.sh DNABarcodeCompatibility_1.15.0.tar.gz /Library/Frameworks/R.framework/Resources/bin/R DNABarcodeCompatibility.buildbin-libdir StartedAt: 2023-03-16 09:05:00 -0400 (Thu, 16 Mar 2023) EndedAt: 2023-03-16 09:05:27 -0400 (Thu, 16 Mar 2023) EllapsedTime: 26.6 seconds RetCode: 0 Status: OK PackageFile: DNABarcodeCompatibility_1.15.0.tgz PackageFileSize: 319.2 KiB