Package: CytoML Version: 2.12.0 Command: /home/biocbuild/bbs-3.17-bioc/R/bin/R CMD build --keep-empty-dirs --no-resave-data CytoML StartedAt: 2023-10-15 16:30:14 -0400 (Sun, 15 Oct 2023) EndedAt: 2023-10-15 16:31:43 -0400 (Sun, 15 Oct 2023) EllapsedTime: 88.2 seconds RetCode: 0 Status: OK PackageFile: CytoML_2.12.0.tar.gz PackageFileSize: 7.914 MiB