Package: CopywriteR Version: 2.31.0 Command: rm -rf CopywriteR.buildbin-libdir && mkdir CopywriteR.buildbin-libdir && /Users/biocbuild/BBS/utils/build-universal.sh CopywriteR_2.31.0.tar.gz /Library/Frameworks/R.framework/Resources/bin/R CopywriteR.buildbin-libdir StartedAt: 2022-11-09 08:49:13 -0500 (Wed, 09 Nov 2022) EndedAt: 2022-11-09 08:50:43 -0500 (Wed, 09 Nov 2022) EllapsedTime: 90.0 seconds RetCode: 0 Status: OK PackageFile: CopywriteR_2.31.0.tgz PackageFileSize: 304 KiB