Package: ConsensusClusterPlus Version: 1.64.0 Command: chmod a+r ConsensusClusterPlus -R && F:\biocbuild\bbs-3.17-bioc\R\bin\R.exe CMD build --keep-empty-dirs --no-resave-data ConsensusClusterPlus StartedAt: 2023-10-15 18:20:52 -0400 (Sun, 15 Oct 2023) EndedAt: 2023-10-15 18:21:05 -0400 (Sun, 15 Oct 2023) EllapsedTime: 12.9 seconds RetCode: 0 Status: OK PackageFile: ConsensusClusterPlus_1.64.0.tar.gz PackageFileSize: 166.7 KiB