Package: ConsensusClusterPlus Version: 1.64.0 Command: rm -rf ConsensusClusterPlus.buildbin-libdir && mkdir ConsensusClusterPlus.buildbin-libdir && F:\biocbuild\bbs-3.17-bioc\R\bin\R.exe CMD INSTALL --build --library=ConsensusClusterPlus.buildbin-libdir ConsensusClusterPlus_1.64.0.tar.gz StartedAt: 2023-10-16 08:37:42 -0400 (Mon, 16 Oct 2023) EndedAt: 2023-10-16 08:37:49 -0400 (Mon, 16 Oct 2023) EllapsedTime: 7.8 seconds RetCode: 0 Status: OK PackageFile: ConsensusClusterPlus_1.64.0.zip PackageFileSize: 199 KiB