Package: ConsensusClusterPlus Version: 1.64.0 Command: /home/biocbuild/bbs-3.17-bioc/R/bin/R CMD INSTALL ConsensusClusterPlus StartedAt: 2023-10-15 15:09:39 -0400 (Sun, 15 Oct 2023) EndedAt: 2023-10-15 15:09:55 -0400 (Sun, 15 Oct 2023) EllapsedTime: 16.5 seconds RetCode: 0 Status: OK