Package: ConsensusClusterPlus Version: 1.64.0 Command: /Library/Frameworks/R.framework/Resources/bin/R CMD check --install=check:ConsensusClusterPlus.install-out.txt --library=/Library/Frameworks/R.framework/Resources/library --no-vignettes --timings ConsensusClusterPlus_1.64.0.tar.gz StartedAt: 2023-10-16 00:10:47 -0400 (Mon, 16 Oct 2023) EndedAt: 2023-10-16 00:11:50 -0400 (Mon, 16 Oct 2023) EllapsedTime: 63.7 seconds RetCode: 0 Status: OK CheckDir: ConsensusClusterPlus.Rcheck Warnings: 0