Package: CompoundDb Version: 1.4.0 Command: rm -rf CompoundDb.buildbin-libdir && mkdir CompoundDb.buildbin-libdir && F:\biocbuild\bbs-3.17-bioc\R\bin\R.exe CMD INSTALL --build --library=CompoundDb.buildbin-libdir CompoundDb_1.4.0.tar.gz StartedAt: 2023-10-16 08:37:28 -0400 (Mon, 16 Oct 2023) EndedAt: 2023-10-16 08:37:58 -0400 (Mon, 16 Oct 2023) EllapsedTime: 30.1 seconds RetCode: 0 Status: OK PackageFile: CompoundDb_1.4.0.zip PackageFileSize: 1.427 MiB