Package: CompoundDb Version: 1.4.0 Command: /Library/Frameworks/R.framework/Resources/bin/R CMD build --keep-empty-dirs --no-resave-data CompoundDb StartedAt: 2023-10-15 17:35:33 -0400 (Sun, 15 Oct 2023) EndedAt: 2023-10-15 17:36:57 -0400 (Sun, 15 Oct 2023) EllapsedTime: 84.5 seconds RetCode: 0 Status: OK PackageFile: CompoundDb_1.4.0.tar.gz PackageFileSize: 1.295 MiB