Package: ComplexHeatmap Version: 2.16.0 Command: /Library/Frameworks/R.framework/Resources/bin/R CMD INSTALL ComplexHeatmap StartedAt: 2023-10-15 15:28:28 -0400 (Sun, 15 Oct 2023) EndedAt: 2023-10-15 15:29:50 -0400 (Sun, 15 Oct 2023) EllapsedTime: 81.9 seconds RetCode: 0 Status: OK