Package: ComplexHeatmap Version: 2.16.0 Command: /Library/Frameworks/R.framework/Resources/bin/R CMD build --keep-empty-dirs --no-resave-data ComplexHeatmap StartedAt: 2023-10-15 17:35:26 -0400 (Sun, 15 Oct 2023) EndedAt: 2023-10-15 17:36:53 -0400 (Sun, 15 Oct 2023) EllapsedTime: 86.9 seconds RetCode: 0 Status: OK PackageFile: ComplexHeatmap_2.16.0.tar.gz PackageFileSize: 1.389 MiB