Package: ComplexHeatmap Version: 2.16.0 Command: rm -rf ComplexHeatmap.buildbin-libdir && mkdir ComplexHeatmap.buildbin-libdir && /Users/biocbuild/BBS/utils/build-universal.sh ComplexHeatmap_2.16.0.tar.gz /Library/Frameworks/R.framework/Resources/bin/R ComplexHeatmap.buildbin-libdir StartedAt: 2023-10-16 09:11:30 -0400 (Mon, 16 Oct 2023) EndedAt: 2023-10-16 09:12:51 -0400 (Mon, 16 Oct 2023) EllapsedTime: 81.4 seconds RetCode: 0 Status: OK PackageFile: ComplexHeatmap_2.16.0.tgz PackageFileSize: 2.937 MiB