Package: ClusterSignificance Version: 1.28.0 Command: /home/biocbuild/bbs-3.17-bioc/R/bin/R CMD build --keep-empty-dirs --no-resave-data ClusterSignificance StartedAt: 2023-10-15 16:21:18 -0400 (Sun, 15 Oct 2023) EndedAt: 2023-10-15 16:22:19 -0400 (Sun, 15 Oct 2023) EllapsedTime: 60.6 seconds RetCode: 0 Status: OK PackageFile: ClusterSignificance_1.28.0.tar.gz PackageFileSize: 1.757 MiB