Package: ClassifyR Version: 3.4.11 Command: chmod a+r ClassifyR -R && F:\biocbuild\bbs-3.17-bioc\R\bin\R.exe CMD build --keep-empty-dirs --no-resave-data ClassifyR StartedAt: 2023-10-15 18:09:34 -0400 (Sun, 15 Oct 2023) EndedAt: 2023-10-15 18:19:07 -0400 (Sun, 15 Oct 2023) EllapsedTime: 573.4 seconds RetCode: 0 Status: OK PackageFile: ClassifyR_3.4.11.tar.gz PackageFileSize: 1.924 MiB