Package: ClassifyR Version: 3.4.11 Command: rm -rf ClassifyR.buildbin-libdir && mkdir ClassifyR.buildbin-libdir && F:\biocbuild\bbs-3.17-bioc\R\bin\R.exe CMD INSTALL --build --library=ClassifyR.buildbin-libdir ClassifyR_3.4.11.tar.gz StartedAt: 2023-10-16 08:35:22 -0400 (Mon, 16 Oct 2023) EndedAt: 2023-10-16 08:36:17 -0400 (Mon, 16 Oct 2023) EllapsedTime: 54.4 seconds RetCode: 0 Status: OK PackageFile: ClassifyR_3.4.11.zip PackageFileSize: 2.169 MiB