Package: ClassifyR Version: 3.4.11 Command: /home/biocbuild/bbs-3.17-bioc/R/bin/R CMD INSTALL ClassifyR StartedAt: 2023-10-15 15:45:33 -0400 (Sun, 15 Oct 2023) EndedAt: 2023-10-15 15:46:04 -0400 (Sun, 15 Oct 2023) EllapsedTime: 31.0 seconds RetCode: 0 Status: OK