Package: ClassifyR Version: 3.4.11 Command: /home/biocbuild/bbs-3.17-bioc/R/bin/R CMD check --install=check:ClassifyR.install-out.txt --library=/home/biocbuild/bbs-3.17-bioc/R/site-library --timings ClassifyR_3.4.11.tar.gz StartedAt: 2023-10-15 20:07:22 -0400 (Sun, 15 Oct 2023) EndedAt: 2023-10-15 20:36:52 -0400 (Sun, 15 Oct 2023) EllapsedTime: 1770.6 seconds RetCode: 0 Status: OK CheckDir: ClassifyR.Rcheck Warnings: 0