Package: CircSeqAlignTk Version: 1.2.0 Command: /home/biocbuild/bbs-3.17-bioc/R/bin/R CMD build --keep-empty-dirs --no-resave-data CircSeqAlignTk StartedAt: 2023-10-15 16:19:06 -0400 (Sun, 15 Oct 2023) EndedAt: 2023-10-15 16:21:43 -0400 (Sun, 15 Oct 2023) EllapsedTime: 157.4 seconds RetCode: 0 Status: OK PackageFile: CircSeqAlignTk_1.2.0.tar.gz PackageFileSize: 1.885 MiB