Package: ChIPXpress Version: 1.44.0 Command: /home/biocbuild/bbs-3.17-bioc/R/bin/R CMD INSTALL ChIPXpress StartedAt: 2023-10-15 15:20:46 -0400 (Sun, 15 Oct 2023) EndedAt: 2023-10-15 15:21:13 -0400 (Sun, 15 Oct 2023) EllapsedTime: 27.1 seconds RetCode: 0 Status: OK