Package: ChIPXpress Version: 1.44.0 Command: /home/biocbuild/bbs-3.17-bioc/R/bin/R CMD build --keep-empty-dirs --no-resave-data ChIPXpress StartedAt: 2023-10-15 16:17:40 -0400 (Sun, 15 Oct 2023) EndedAt: 2023-10-15 16:18:32 -0400 (Sun, 15 Oct 2023) EllapsedTime: 52.2 seconds RetCode: 0 Status: OK PackageFile: ChIPXpress_1.44.0.tar.gz PackageFileSize: 310.5 KiB