Package: ChIPComp Version: 1.30.0 Command: /home/biocbuild/bbs-3.17-bioc/R/bin/R CMD INSTALL ChIPComp StartedAt: 2023-10-15 15:21:34 -0400 (Sun, 15 Oct 2023) EndedAt: 2023-10-15 15:22:04 -0400 (Sun, 15 Oct 2023) EllapsedTime: 30.1 seconds RetCode: 0 Status: OK