Package: ChIPComp Version: 1.30.0 Command: /Library/Frameworks/R.framework/Resources/bin/R CMD build --keep-empty-dirs --no-resave-data ChIPComp StartedAt: 2023-10-15 17:22:16 -0400 (Sun, 15 Oct 2023) EndedAt: 2023-10-15 17:24:20 -0400 (Sun, 15 Oct 2023) EllapsedTime: 123.2 seconds RetCode: 0 Status: OK PackageFile: ChIPComp_1.30.0.tar.gz PackageFileSize: 596 KiB