Package: CellTrails Version: 1.18.0 Command: /home/biocbuild/bbs-3.17-bioc/R/bin/R CMD build --keep-empty-dirs --no-resave-data CellTrails StartedAt: 2023-10-15 16:14:54 -0400 (Sun, 15 Oct 2023) EndedAt: 2023-10-15 16:15:33 -0400 (Sun, 15 Oct 2023) EllapsedTime: 38.5 seconds RetCode: 0 Status: OK PackageFile: CellTrails_1.18.0.tar.gz PackageFileSize: 2.628 MiB