Package: CellTrails Version: 1.18.0 Command: /Library/Frameworks/R.framework/Resources/bin/R CMD INSTALL CellTrails StartedAt: 2023-10-15 15:16:49 -0400 (Sun, 15 Oct 2023) EndedAt: 2023-10-15 15:18:21 -0400 (Sun, 15 Oct 2023) EllapsedTime: 91.8 seconds RetCode: 0 Status: OK