Package: CellTrails Version: 1.18.0 Command: rm -rf CellTrails.buildbin-libdir && mkdir CellTrails.buildbin-libdir && /Users/biocbuild/BBS/utils/build-universal.sh CellTrails_1.18.0.tar.gz /Library/Frameworks/R.framework/Resources/bin/R CellTrails.buildbin-libdir StartedAt: 2023-10-16 09:06:38 -0400 (Mon, 16 Oct 2023) EndedAt: 2023-10-16 09:08:12 -0400 (Mon, 16 Oct 2023) EllapsedTime: 94.3 seconds RetCode: 0 Status: OK PackageFile: CellTrails_1.18.0.tgz PackageFileSize: 3.001 MiB