Package: CellScore Version: 1.20.0 Command: /home/biocbuild/bbs-3.17-bioc/R/bin/R CMD INSTALL CellScore StartedAt: 2023-10-15 15:08:41 -0400 (Sun, 15 Oct 2023) EndedAt: 2023-10-15 15:08:55 -0400 (Sun, 15 Oct 2023) EllapsedTime: 14.2 seconds RetCode: 0 Status: OK