Package: CellScore Version: 1.20.0 Command: /Library/Frameworks/R.framework/Resources/bin/R CMD INSTALL CellScore StartedAt: 2023-10-15 15:06:22 -0400 (Sun, 15 Oct 2023) EndedAt: 2023-10-15 15:06:56 -0400 (Sun, 15 Oct 2023) EllapsedTime: 33.6 seconds RetCode: 0 Status: OK