Package: CellScore Version: 1.20.0 Command: rm -rf CellScore.buildbin-libdir && mkdir CellScore.buildbin-libdir && /Users/biocbuild/BBS/utils/build-universal.sh CellScore_1.20.0.tar.gz /Library/Frameworks/R.framework/Resources/bin/R CellScore.buildbin-libdir StartedAt: 2023-10-16 09:06:38 -0400 (Mon, 16 Oct 2023) EndedAt: 2023-10-16 09:06:51 -0400 (Mon, 16 Oct 2023) EllapsedTime: 13.6 seconds RetCode: 0 Status: OK PackageFile: CellScore_1.20.0.tgz PackageFileSize: 4.262 MiB