Package: CellNOptR Version: 1.46.0 Command: /home/biocbuild/bbs-3.17-bioc/R/bin/R CMD build --keep-empty-dirs --no-resave-data CellNOptR StartedAt: 2023-10-15 16:14:35 -0400 (Sun, 15 Oct 2023) EndedAt: 2023-10-15 16:14:59 -0400 (Sun, 15 Oct 2023) EllapsedTime: 24.9 seconds RetCode: 0 Status: OK PackageFile: CellNOptR_1.46.0.tar.gz PackageFileSize: 3.475 MiB