Package: Cardinal Version: 3.2.1 Command: /home/biocbuild/bbs-3.17-bioc/R/bin/R CMD build --keep-empty-dirs --no-resave-data Cardinal StartedAt: 2023-10-15 16:11:44 -0400 (Sun, 15 Oct 2023) EndedAt: 2023-10-15 16:13:59 -0400 (Sun, 15 Oct 2023) EllapsedTime: 135.1 seconds RetCode: 0 Status: OK PackageFile: Cardinal_3.2.1.tar.gz PackageFileSize: 3.432 MiB